BEGIN:VCALENDAR
VERSION:2.0
PRODID:-//Nuntă Tradițională - ECPv6.15.20//NONSGML v1.0//EN
CALSCALE:GREGORIAN
METHOD:PUBLISH
X-ORIGINAL-URL:https://www.nuntatraditionala.ro
X-WR-CALDESC:Evenimente pentru Nuntă Tradițională
REFRESH-INTERVAL;VALUE=DURATION:PT1H
X-Robots-Tag:noindex
X-PUBLISHED-TTL:PT1H
BEGIN:VTIMEZONE
TZID:Europe/Bucharest
BEGIN:DAYLIGHT
TZOFFSETFROM:+0200
TZOFFSETTO:+0300
TZNAME:EEST
DTSTART:20170326T010000
END:DAYLIGHT
BEGIN:STANDARD
TZOFFSETFROM:+0300
TZOFFSETTO:+0200
TZNAME:EET
DTSTART:20171029T010000
END:STANDARD
BEGIN:DAYLIGHT
TZOFFSETFROM:+0200
TZOFFSETTO:+0300
TZNAME:EEST
DTSTART:20180325T010000
END:DAYLIGHT
BEGIN:STANDARD
TZOFFSETFROM:+0300
TZOFFSETTO:+0200
TZNAME:EET
DTSTART:20181028T010000
END:STANDARD
BEGIN:DAYLIGHT
TZOFFSETFROM:+0200
TZOFFSETTO:+0300
TZNAME:EEST
DTSTART:20190331T010000
END:DAYLIGHT
BEGIN:STANDARD
TZOFFSETFROM:+0300
TZOFFSETTO:+0200
TZNAME:EET
DTSTART:20191027T010000
END:STANDARD
END:VTIMEZONE
BEGIN:VEVENT
DTSTART;TZID=Europe/Bucharest:20180709T090000
DTEND;TZID=Europe/Bucharest:20180817T190000
DTSTAMP:20260420T183444
CREATED:20180706T121637Z
LAST-MODIFIED:20180706T122045Z
UID:25685-1531126800-1534532400@www.nuntatraditionala.ro
SUMMARY:Tabăra de creație "Vara pe uliță" - Muzeului Național al Satului "Dimitrie Gusti"
DESCRIPTION:Luni\, 9 iulie 2018\, începând cu ora 10:00\, la Scena Dumitra din cadrul Muzeului Național al Satului „Dimitrie Gusti”\, are loc ceremonia de deschidere a Taberei de creație „Vara pe uliță”\, ajunsă acum la cea de-a 26-a ediție. Vă invităm să fiți parte la începerea celui mai longeviv program de educație muzeală din România\, un model de perpetuare a tradiției populare românești și o marcă înregistrată la Oficiul de Stat pentru Invenții și Mărci încă din 2007.\n \nTimp de șase săptămâni\, între 9 iulie și 17 august\, copii se vor bucura de vacanța de vară într-un mod în care le va aduce aminte de perioada petrecută la bunici. În gospodăriile din muzeu\, într-o atmosferă prietenoasă și rustică\, cei mici vor desfășura ateliere meșteșugărești\, învățând de la creatori populari\, veniți din întreaga țară\, cum să modeleze lutul\, cum să coasă o ie sau cum să-și confecționeze propriile jucării. Pe lângă toate acestea\, copiii vor mai avea parte de nenumărate surprize care să le insufle dragostea pentru tradiție și cultură. Se combină astfel utilul cu plăcutul\, iar participanții vor deveni mai responsabili și vor manifesta mai multă grijă pentru patrimoniul cultural național. \n\nAtelierele meșteșugărești au loc de luni până vineri\, între orele 10:00 și 14:00\, cu o pauză recreativă între orele 12:00 și 13:00. Între orele 14:00 și 15:00\, în sala Victor Ion Popa\, doritorii vor putea rămâne la cursurile de educație muzicală\, susținute gratuit de MuseArt Academy. Astfel copiii vor avea tot timpul la dispoziție să se cunoască și să se împrietenească\, formând o comunitate atât de necesară unei dezvoltări armonioase. \n\nÎnscrierile continuă atât la sediul Muzeului Național al Satului „Dimitrie Gusti”\, clădirea Arhondaric\, Șos. Kiseleff nr. 28\, de luni până joi\, între orele 10:00 și 16:00\, iar vineri între orele 10:00 și 14:00\, cât și online\, la adresa de e-mail tabara2018@muzeul-satului.ro.  \nRegulamentul taberei\, programul atelierelor\, detaliile și documentele necesare înscrierii pot fi găsite pe pagina evenimentului.
URL:https://www.nuntatraditionala.ro/eveniment/tabara-de-creatie-vara-pe-ulita-muzeului-national-al-satului-dimitrie-gusti/
LOCATION:Muzeul Național al Satului „Dimitrie Gusti”\, 28-30\, Șoseaua Pavel Dimitrievici Kiseleff\, Bucureşti\, 011347\, România
CATEGORIES:Tabere
ATTACH;FMTTYPE=image/jpeg:https://www.nuntatraditionala.ro/wp-content/uploads/2018/07/muzeul-satului-bucuresti-dimitrie-gusti-afis-tabara-de-creatie-vara-pe-ulita-iulie-august-2018.jpg
ORGANIZER;CN="Muzeul Na%C8%9Bional al Satului %E2%80%9EDimitrie Gusti%E2%80%9D":MAILTO:contact@muzeul-satului.ro
END:VEVENT
END:VCALENDAR