BEGIN:VCALENDAR
VERSION:2.0
PRODID:-//Nuntă Tradițională - ECPv6.15.20//NONSGML v1.0//EN
CALSCALE:GREGORIAN
METHOD:PUBLISH
X-WR-CALNAME:Nuntă Tradițională
X-ORIGINAL-URL:https://www.nuntatraditionala.ro
X-WR-CALDESC:Evenimente pentru Nuntă Tradițională
REFRESH-INTERVAL;VALUE=DURATION:PT1H
X-Robots-Tag:noindex
X-PUBLISHED-TTL:PT1H
BEGIN:VTIMEZONE
TZID:Europe/Bucharest
BEGIN:DAYLIGHT
TZOFFSETFROM:+0200
TZOFFSETTO:+0300
TZNAME:EEST
DTSTART:20170326T010000
END:DAYLIGHT
BEGIN:STANDARD
TZOFFSETFROM:+0300
TZOFFSETTO:+0200
TZNAME:EET
DTSTART:20171029T010000
END:STANDARD
BEGIN:DAYLIGHT
TZOFFSETFROM:+0200
TZOFFSETTO:+0300
TZNAME:EEST
DTSTART:20180325T010000
END:DAYLIGHT
BEGIN:STANDARD
TZOFFSETFROM:+0300
TZOFFSETTO:+0200
TZNAME:EET
DTSTART:20181028T010000
END:STANDARD
BEGIN:DAYLIGHT
TZOFFSETFROM:+0200
TZOFFSETTO:+0300
TZNAME:EEST
DTSTART:20190331T010000
END:DAYLIGHT
BEGIN:STANDARD
TZOFFSETFROM:+0300
TZOFFSETTO:+0200
TZNAME:EET
DTSTART:20191027T010000
END:STANDARD
BEGIN:DAYLIGHT
TZOFFSETFROM:+0200
TZOFFSETTO:+0300
TZNAME:EEST
DTSTART:20200329T010000
END:DAYLIGHT
BEGIN:STANDARD
TZOFFSETFROM:+0300
TZOFFSETTO:+0200
TZNAME:EET
DTSTART:20201025T010000
END:STANDARD
END:VTIMEZONE
BEGIN:VEVENT
DTSTART;TZID=Europe/Bucharest:20191101T100000
DTEND;TZID=Europe/Bucharest:20191103T170000
DTSTAMP:20260425T133212
CREATED:20191016T071330Z
LAST-MODIFIED:20191016T071330Z
UID:34268-1572602400-1572800400@www.nuntatraditionala.ro
SUMMARY:Târg de nunți la Palatul Brukenthal din Avrig - Noiembrie 2019
DESCRIPTION:Târgul de nunți este organizat la Palatul Brukenthal din Avrig\, str. Gh. Lazăr 39\, jud. Sibiu în perioada 1 Nov – 3 Nov 2019. \nVenue I – Cort – Expoziție – 700 m pătrați (indoor) / 1000 m pătrați (outdoor) \nVenue II – Sala Festivă – Loc pentru discuții\, parteneriate\, feedback-uri – 250 m pătrați (indoor) / 500 m pătrați (outdoor) \nVenue III – Restaurant – Degustare de produse din gastronomia vastă a Palatului Brukenthal 150 m pătrați \nProgram: \n\n1 Noiembrie – sosirea și instalarea expozanților\n2 Noiembrie – 3 Noiembrie orele 10 – 17 – discuții/semnări de contracte cu viitorii miri.\n\nParticiparea este gratuita – nu se percepe nici o taxa de participare!\n\n\nTombolă cu surprize: Cununie civilă în grădina de vară a baronului Brukenthal din partea casei!
URL:https://www.nuntatraditionala.ro/eveniment/targ-de-nunti-la-palatul-brukenthal-din-avrig-noiembrie-2019/
LOCATION:Palatul Brukenthal\, Str. Gheorghe Lazăr nr. 39\, Avrig\, Sibiu\, 555200\, România
CATEGORIES:Târg de nuntă
ATTACH;FMTTYPE=image/jpeg:https://www.nuntatraditionala.ro/wp-content/uploads/2019/10/nunta-traditionala-evenimente-targ-de-nunta-palatul-brukenthal-avrig-1-3-noiembrie-2019-afis.jpg
ORGANIZER;CN="Palatul Brukenthal":MAILTO:office@palatulbrukenthalavrig.ro
END:VEVENT
BEGIN:VEVENT
DTSTART;TZID=Europe/Bucharest:20181102T090000
DTEND;TZID=Europe/Bucharest:20181104T170000
DTSTAMP:20260425T133212
CREATED:20181018T124246Z
LAST-MODIFIED:20181018T124246Z
UID:27388-1541149200-1541350800@www.nuntatraditionala.ro
SUMMARY:Târg de nunți la Palatul Brukenthal din Avrig
DESCRIPTION:Târgul de nunți este organizat la Palatul Brukenthal din Avrig\, str. Gh. Lazăr 39\, jud. Sibiu în perioada 2 Nov – 4 Nov 2018. \nVenue I – Cort – Expoziție – 700 m pătrați (indoor) / 1000 m pătrați (outdoor) \nVenue II – Sala Festivă – Loc pentru discuții\, parteneriate\, feedback-uri – 250 m pătrați (indoor) / 500 m pătrați (outdoor) \nVenue III – Restaurant – Degustare de produse din gastronomia vastă a Palatului Brukenthal 150 m pătrați \n 
URL:https://www.nuntatraditionala.ro/eveniment/targ-de-nunti-la-palatul-brukenthal-din-avrig/
LOCATION:Palatul Brukenthal\, Str. Gheorghe Lazăr nr. 39\, Avrig\, Sibiu\, 555200\, România
CATEGORIES:Târg de nuntă
ATTACH;FMTTYPE=image/jpeg:https://www.nuntatraditionala.ro/wp-content/uploads/2018/10/nunta-traditionala-evenimente-targ-de-nunta-palatul-brukenthal-avrig-2-4-noiembrie-2018.jpg
ORGANIZER;CN="Palatul Brukenthal":MAILTO:office@palatulbrukenthalavrig.ro
END:VEVENT
END:VCALENDAR