BEGIN:VCALENDAR
VERSION:2.0
PRODID:-//Nuntă Tradițională - ECPv6.15.20//NONSGML v1.0//EN
CALSCALE:GREGORIAN
METHOD:PUBLISH
X-WR-CALNAME:Nuntă Tradițională
X-ORIGINAL-URL:https://www.nuntatraditionala.ro
X-WR-CALDESC:Evenimente pentru Nuntă Tradițională
REFRESH-INTERVAL;VALUE=DURATION:PT1H
X-Robots-Tag:noindex
X-PUBLISHED-TTL:PT1H
BEGIN:VTIMEZONE
TZID:Europe/Bucharest
BEGIN:DAYLIGHT
TZOFFSETFROM:+0200
TZOFFSETTO:+0300
TZNAME:EEST
DTSTART:20170326T010000
END:DAYLIGHT
BEGIN:STANDARD
TZOFFSETFROM:+0300
TZOFFSETTO:+0200
TZNAME:EET
DTSTART:20171029T010000
END:STANDARD
BEGIN:DAYLIGHT
TZOFFSETFROM:+0200
TZOFFSETTO:+0300
TZNAME:EEST
DTSTART:20180325T010000
END:DAYLIGHT
BEGIN:STANDARD
TZOFFSETFROM:+0300
TZOFFSETTO:+0200
TZNAME:EET
DTSTART:20181028T010000
END:STANDARD
BEGIN:DAYLIGHT
TZOFFSETFROM:+0200
TZOFFSETTO:+0300
TZNAME:EEST
DTSTART:20190331T010000
END:DAYLIGHT
BEGIN:STANDARD
TZOFFSETFROM:+0300
TZOFFSETTO:+0200
TZNAME:EET
DTSTART:20191027T010000
END:STANDARD
END:VTIMEZONE
BEGIN:VEVENT
DTSTART;TZID=Europe/Bucharest:20181130T090000
DTEND;TZID=Europe/Bucharest:20181202T170000
DTSTAMP:20260420T010623
CREATED:20181130T190037Z
LAST-MODIFIED:20181130T190055Z
UID:28353-1543568400-1543770000@www.nuntatraditionala.ro
SUMMARY:"De 1 Decembrie la Muzeul Satului" - Muzeului Național al Satului "Dimitrie Gusti"
DESCRIPTION:Muzeul Național al Satului „Dimitrie Gusti” vă invită\, între 30 noiembrie și 2 decembrie 2018\, la seria de evenimente dedicată Zilei Naționale a României\, De 1 Decembrie la Muzeul Satului. Programul va debuta cu un târg al meșterilor populari\, chiar de ziua Sf. Ap. Andrei\, cel Întâi Chemat\, Ocrotitorul României. \nDe 1 Decembrie vom afla\, printr-o piesă inedită de teatru de umbre\, cine a fost Măriuca Zaharia\, fetița eroină din Primul Război Mondial\, care se odihnește în prezent în Mausoleul de la Mărășești. Spectacolul va începe la ora 12:00 și va avea loc în sala Victor Ion Popa. De la ora 13:00 vom primi onorurile membrilor Asociaţiei Tradiţia Militară în uniformele militare din Primul Război Mondial și vom afla cum se pregăteau soldații de război acum 100 de ani. De asemenea\, vom cunoaște poveștile celor care au luptat pe front vizitând expoziția-concept Eroi de război. 100 de portrere. Ziua se va încheia cu o serie de ateliere pentru copii\, Cum ne-o imaginăm pe Măriuca Zaharia\, cel mai tânăr erou al Primului Război Mondial. \nÎn An Centenar\, vă așteptăm cu mic\, cu mare\, în satul din inima Capitalei\, să serbăm împreună Ziua Națională a României. \nPROGRAM \n30 NOIEMBRIE\nSf. Ap. Andrei\, cel Întâi Chemat\, Ocrotitorul României\n13.00 – Lansare de carte – Strigătura\, autor Rodica Sonia Butnaru\,\nEditura Semne\, Bucureşti\, 2018\nPrezintă – Dr. Ala Movileanu (Sala Victor Ion Popa)\n9.00 – 17.00 Târgul creatorilor populari\, produse bio\n1 DECEMBRIE\nZiua Naţională a României\n10.00 – 11.30 – Ateliere de creaţie – Satul Spiriduşilor\nCocarde de 1 Decembrie* – cu înscriere în prealabil\n12.00 – 12.30 – Povestea Măriucăi Zaharia – cel mai tânăr erou al Primului Război Mondial\nTeatru de umbre pentru copii (Sala Victor Ion Popa)\n13.00 – Parada uniformelor militare – Asociaţia Tradiţia Militară (În muzeu)\nCoord. Prof. Mircea Stoica\n13.30 – 15.30 Tur ghidat în expoziția Eroi de război (Sala Gh. Focșa)\nCurator – Cristina Liberis\n14.00 – 16.00 Atelier interactiv în cadrul expoziției Eroi de război\nCum ne-o imaginăm pe Măriuca Zaharia\, cel mai tânăr erou al Primului Război Mondial\nCoord. Cornel Dumitrescu (Sala Gh. Focșa)\n9.00 – 17.00 Târgul creatorilor populari\, produse bio\n2 DECEMBRIE\n9.00 – 17.00 Târgul creatorilor populari\, produse bio
URL:https://www.nuntatraditionala.ro/eveniment/de-1-decembrie-la-muzeul-satului-muzeului-national-al-satului-dimitrie-gusti/
LOCATION:Muzeul Național al Satului „Dimitrie Gusti”\, 28-30\, Șoseaua Pavel Dimitrievici Kiseleff\, Bucureşti\, 011347\, România
CATEGORIES:Eveniment Cultural
ATTACH;FMTTYPE=image/jpeg:https://www.nuntatraditionala.ro/wp-content/uploads/2018/11/muzeul-satului-bucuresti-dimitrie-gusti-afis-1-decembrie-2018.jpg
ORGANIZER;CN="Muzeul Na%C8%9Bional al Satului %E2%80%9EDimitrie Gusti%E2%80%9D":MAILTO:contact@muzeul-satului.ro
END:VEVENT
END:VCALENDAR